BEGIN:VCALENDAR
VERSION:2.0
PRODID:-//ITE Learning Formation et certification
CALSCALE:GREGORIAN
METHOD:PUBLISH
X-WR-CALNAME:ITE Learning Formation et certification
X-ORIGINAL-URL:https://ite-learning.com/event/big-data-foundation-3-jours-bordeaux/
X-WR-CALDESC:Big Data Foundation (3 jours) &#8211; Bordeaux
BEGIN:VEVENT
DTSTART:20180205T000000
DTEND:20180207T000000
SUMMARY:Big Data Foundation (3 jours) &#8211; Bordeaux
DESCRIPTION:Cette formation certifiante d'une durée de 3 jours consécutifs permet aux participants d'acquérir les bases de la Data Science et les fondamentaux du domaine Big Data.
LOCATION:Bordeaux
END:VEVENT
END:VCALENDAR
