BEGIN:VCALENDAR
VERSION:2.0
PRODID:-//ITE Learning Formation et certification
CALSCALE:GREGORIAN
METHOD:PUBLISH
X-WR-CALNAME:ITE Learning Formation et certification
X-ORIGINAL-URL:https://ite-learning.com/event/prince2-practitioner-2-jours-prague/
X-WR-CALDESC:PRINCE2® – Practitioner (2 jours) &#8211; Prague
BEGIN:VEVENT
DTSTART:20180308T000000
DTEND:20180310T000000
SUMMARY:PRINCE2® – Practitioner (2 jours) &#8211; Prague
DESCRIPTION:Cette session de deux jours est suivie de préférence par des personnes possédant déjà la certification PRINCE2® Foundation (c'est un prérequis exigé pour le passage de l'examen de certification PRINCE2® Practitioner).
LOCATION:Prague
END:VEVENT
END:VCALENDAR
