BEGIN:VCALENDAR
VERSION:2.0
PRODID:-//ITE Learning Formation et certification
CALSCALE:GREGORIAN
METHOD:PUBLISH
X-WR-CALNAME:ITE Learning Formation et certification
X-ORIGINAL-URL:https://ite-learning.com/event/iso-27001-foundation-2-jours-paris/
X-WR-CALDESC:ISO 27001 Foundation (2 jours) &#8211; Paris
BEGIN:VEVENT
DTSTART:
DTEND:
SUMMARY:ISO 27001 Foundation (2 jours) &#8211; Paris
DESCRIPTION:Comprendre la mise en oeuvre d'un Système de Management de la Sécurité de l'Information (SMSI) conforme à l'ISO 27001.
LOCATION:
END:VEVENT
END:VCALENDAR
